BEGIN:VCALENDAR
VERSION:2.0
PRODID:Events Booking
BEGIN:VEVENT
UID:69e9d4b691e66
SUMMARY:Monthly Quiz
DESCRIPTION:QUIZ MASTER Denis Lascelles
 No need to book\, just turn up.

  The Doors open at 10:00 am for a 10:30 am start
LOCATION:Holway Rd\, Sheringham NR26 8NP\, UK
DTSTART:20250905T103000Z
DTEND:20250905T123000Z
DTSTAMP:20250611T201956Z
ORGANIZER;CN=North Norfolk u3a:MAILTO:bookings@northnorfolku3a.org.uk
GEO:52.935272;1.205154
X-APPLE-STRUCTURED-LOCATION;VALUE=URI;X-ADDRESS=Holway Rd\, Sheringham NR26
  8NP\, UK;X-APPLE-RADIUS=72;X-TITLE=Sheringham Community Centre:52.935272;
 1.205154
END:VEVENT
END:VCALENDAR